BEGIN:VCALENDAR
VERSION:2.0
PRODID:-//Mezcal Store - ECPv6.15.20//NONSGML v1.0//EN
CALSCALE:GREGORIAN
METHOD:PUBLISH
X-WR-CALNAME:Mezcal Store
X-ORIGINAL-URL:https://mezcalstore.com.mx
X-WR-CALDESC:Eventos para Mezcal Store
REFRESH-INTERVAL;VALUE=DURATION:PT1H
X-Robots-Tag:noindex
X-PUBLISHED-TTL:PT1H
BEGIN:VTIMEZONE
TZID:America/Monterrey
BEGIN:STANDARD
TZOFFSETFROM:-0600
TZOFFSETTO:-0600
TZNAME:CST
DTSTART:20250101T000000
END:STANDARD
END:VTIMEZONE
BEGIN:VEVENT
DTSTART;TZID=America/Monterrey:20260227T200000
DTEND;TZID=America/Monterrey:20260227T213000
DTSTAMP:20260421T133332
CREATED:20260211T223903Z
LAST-MODIFIED:20260211T223903Z
UID:13928-1772222400-1772227800@mezcalstore.com.mx
SUMMARY:EXPERIENCIA SENSORIAL
DESCRIPTION:¿Te apasiona el mezcal? \nDéjate guiar por Alexxa Villarreal\, sommelier experta\, y descubre los secretos detrás de cada aroma\, cada sabor y cada sensación. Aprende a catar como un verdadero conocedor y transforma tu manera de disfrutar el mezcal. \nEn colaboración con Voz de Almas\, vivirás: \n✨ Un recorrido sensorial único\n✨ Técnicas profesionales para identificar matices y aromas\n✨ Momentos que despertarán todos tus sentidos \n📅 Viernes 27 de Febrero\n🕗 8:00 PM\n📍 Mezcal Store\, Plaza G3\, Monterrey \nIncluye: Coctel de la casa \n📲 Reserva vía WhatsApp: 81 2003 13 40 \n¡Una noche que tu paladar nunca olvidará!
URL:https://mezcalstore.com.mx/eventos/experiencia-sensorial/
ATTACH;FMTTYPE=image/png:https://mezcalstore.com.mx/wp-content/uploads/2026/02/POST-VOZ-ALMAS.png
END:VEVENT
BEGIN:VEVENT
DTSTART;TZID=America/Monterrey:20260313T200000
DTEND;TZID=America/Monterrey:20260313T210000
DTSTAMP:20260421T133332
CREATED:20260224T214727Z
LAST-MODIFIED:20260224T214727Z
UID:13938-1773432000-1773435600@mezcalstore.com.mx
SUMMARY:BRIGANTE X MEZCAL STORE
DESCRIPTION:MEZCAL BRIGANTE te invita a vivir una experiencia sensorial única dedicada al carácter profundo y auténtico de Oaxaca. \n📅 13 de marzo\n🕗 8:00 PM\n📍 Mezcal Store\, Plaza G3\, Monterrey \nUna noche para descubrir el alma del agave a través de dos destilados oaxaqueños cuidadosamente seleccionados: \n🥃 Espadín – 40% Alc. Vol. \n🥃 Tobalá – 44.5% Alc. Vol. \nDurante la velada exploraremos aromas\, texturas y sabores\, aprendiendo a degustar cada sorbo con intención y respeto por su origen artesanal. \nUna experiencia para quienes desean conectar con la esencia auténtica del mezcal. \n✨Acompáñanos a brindar por el espíritu libre del agave. \nCupo limitado. Reserva tu lugar  \nEnvíanos un WhatsApp 8120931340
URL:https://mezcalstore.com.mx/eventos/brigante-x-mezcal-store/
ATTACH;FMTTYPE=image/jpeg:https://mezcalstore.com.mx/wp-content/uploads/2026/02/POST-BRIGANTE.jpeg
END:VEVENT
END:VCALENDAR