BEGIN:VCALENDAR
VERSION:2.0
PRODID:-//Mezcal Store - ECPv6.15.20//NONSGML v1.0//EN
CALSCALE:GREGORIAN
METHOD:PUBLISH
X-ORIGINAL-URL:https://mezcalstore.com.mx
X-WR-CALDESC:Eventos para Mezcal Store
REFRESH-INTERVAL;VALUE=DURATION:PT1H
X-Robots-Tag:noindex
X-PUBLISHED-TTL:PT1H
BEGIN:VTIMEZONE
TZID:America/Monterrey
BEGIN:DAYLIGHT
TZOFFSETFROM:-0600
TZOFFSETTO:-0500
TZNAME:CDT
DTSTART:20220403T080000
END:DAYLIGHT
BEGIN:STANDARD
TZOFFSETFROM:-0500
TZOFFSETTO:-0600
TZNAME:CST
DTSTART:20221030T070000
END:STANDARD
END:VTIMEZONE
BEGIN:VEVENT
DTSTART;TZID=America/Monterrey:20250116T200000
DTEND;TZID=America/Monterrey:20250116T213000
DTSTAMP:20260421T072721
CREATED:20250109T193552Z
LAST-MODIFIED:20250109T193739Z
UID:12786-1737057600-1737063000@mezcalstore.com.mx
SUMMARY:Noche de Mezcales con Máchee
DESCRIPTION:¿Te gustaría profundizar en el mundo del mezcal? \nAcompáñanos en nuestra próxima cata con Mezcal Máchee\, guiada por el maestro mezcalero Leo García\, directamente de Oaxaca. \nDurante esta experiencia\, tendrás la oportunidad de conocer y degustar 4 expresiones auténticas de destilado de agave: \n🌿 Espadín\n🌿 Verdito\n🌿 Amarillo\n🌿 Sedita/Ensamble \n– Incluye maridaje – \nAprenderás sobre los procesos de destilación\, la denominación de origen y los agaves endémicos de la región. \n💵 Costo especial: \n1 persona: $600\n2 personas: $1000 \n📅 Fecha: Jueves 16 de enero\n⏰ Hora: 8:00 PM \n¡Reserva tu lugar por WhatsApp! Envíanos un mensaje. \n📲 81 2093 1340
URL:https://mezcalstore.com.mx/eventos/noche-de-mezcales-con-machee/
LOCATION:Mezcal Store\, Av. Revolución 1999\, Monterrey\, Nuevo León\, 64800\, Mexico
ATTACH;FMTTYPE=image/png:https://mezcalstore.com.mx/wp-content/uploads/2025/01/Cata-de-Mezcal-con-Machee.png
END:VEVENT
BEGIN:VEVENT
DTSTART;TZID=America/Monterrey:20241213T190000
DTEND;TZID=America/Monterrey:20241213T210000
DTSTAMP:20260421T072721
CREATED:20250218T200434Z
LAST-MODIFIED:20250218T200434Z
UID:12803-1734116400-1734123600@mezcalstore.com.mx
SUMMARY:Sabor y Tradición: Cata de Mezcal con Casa Pineda
DESCRIPTION:¡Disfruta de una noche única de sabores y tradiciones! ✨ \nEn colaboración con Casa Pineda\, te invitamos a una cata exclusiva de 3 mezcales seleccionados\, guiada por el maestro mezcalero Giovani Morales. Durante esta experiencia sensorial\, aprenderás sobre la historia\, el proceso y el sabor único de cada mezcal. 🌿🔥 \n💰 Costo: \n1 persona: $550\n2 personas: $900 \n📅 Fecha: Viernes 13 de diciembre\n⏰ Hora: 7:00 PM\n📍 Ubicación: Mezcal Store\, Plaza G3\, Revolución 1999\, Monterrey \nReserva tu lugar: 📲 81 2093 1340
URL:https://mezcalstore.com.mx/eventos/sabor-y-tradicion-cata-de-mezcal-con-casa-pineda/
ATTACH;FMTTYPE=image/jpeg:https://mezcalstore.com.mx/wp-content/uploads/2025/02/Cata-Casa-Pineda.jpg
END:VEVENT
BEGIN:VEVENT
DTSTART;TZID=America/Monterrey:20241122T200000
DTEND;TZID=America/Monterrey:20241122T220000
DTSTAMP:20260421T072721
CREATED:20250218T195336Z
LAST-MODIFIED:20250218T195747Z
UID:12798-1732305600-1732312800@mezcalstore.com.mx
SUMMARY:Tour Mezcaloteca Itinerante en Monterrey
DESCRIPTION:Tour Mezcaloteca Itinerante en Monterrey \nUna noche especial para los amantes del buen mezcal. Este viernes 22 de noviembre\, Mezcaloteca llega a Mezcal Store con una selección exclusiva de destilados artesanales. ✨ \n💰 Precios especiales:\n– 1 persona: $650\n-2 personas: $1\,000 \n📅 Fecha: Viernes 22 de noviembre\n⏰ Hora: 8:00 PM\n📍 Lugar: Mezcal Store\, Plaza G3\, Revolución 1999\, Monterrey \nCupo limitado\n🔹 Reserva tu lugar: 📲 81 2093 1340
URL:https://mezcalstore.com.mx/eventos/tour-mezcaloteca-itinerante-en-monterrey/
ATTACH;FMTTYPE=image/jpeg:https://mezcalstore.com.mx/wp-content/uploads/2025/02/IMG_20250218_133036.jpg
END:VEVENT
BEGIN:VEVENT
DTSTART;TZID=America/Monterrey:20241115T200000
DTEND;TZID=America/Monterrey:20241115T220000
DTSTAMP:20260421T072721
CREATED:20250218T195148Z
LAST-MODIFIED:20250218T195148Z
UID:12794-1731700800-1731708000@mezcalstore.com.mx
SUMMARY:Noche de Mezcales Tradicionales con el Mezcólogo Luis Nogales
DESCRIPTION:Charla Mezcalera & Degustación🌿 \nVive una experiencia única con el Mezcólogo Luis Nogales\, quien guiará una exclusiva degustación de 3 mezcales artesanales mientras comparte su conocimiento sobre esta bebida ancestral. \n💰 Entrada: $450\n📅 Fecha: Viernes 15 de noviembre\n⏰ Hora: 8:00 PM\n📍 Lugar: Mezcal Store\, Monterrey \n🔹 Reserva tu lugar: 📲 81 2093 1340
URL:https://mezcalstore.com.mx/eventos/noche-de-mezcales-tradicionales-con-el-mezcologo-luis-nogales/
ATTACH;FMTTYPE=image/jpeg:https://mezcalstore.com.mx/wp-content/uploads/2025/02/IMG_20250218_133047.jpg
END:VEVENT
BEGIN:VEVENT
DTSTART;TZID=America/Monterrey:20241026T130000
DTEND;TZID=America/Monterrey:20241027T010000
DTSTAMP:20260421T072721
CREATED:20240801T192414Z
LAST-MODIFIED:20240801T192414Z
UID:12480-1729947600-1729990800@mezcalstore.com.mx
SUMMARY:Mezcal Fest Monterrey 2024
DESCRIPTION:¡Regresa el único Festival de Mezcal en Monterrey! \nAcompáñanos a celebrar la esencia de esta bebida ancestral en un evento que promueve la cultura\, el conocimiento y la pasión por el mezcal. \nDisfruta de una experiencia única en la que reuniremos destilados de diversas regiones del país para ofrecerte una vivencia completa y enriquecedora. Tendrás la oportunidad de interactuar directamente con maestros productores y descubrir el proceso de producción\, desde la cosecha del maguey hasta la destilación final. \nDegusta una amplia variedad de destilados mexicanos\, cada uno con un perfil de sabor único y distintivo\, y escucha de primera mano las historias transmitidas a través de generaciones. \nEl evento se llevará a cabo el 26 de octubre de 2024\, en la Nave Lewis del Parque Fundidora. \n¡Celebremos juntos la esencia de esta bebida ancestral! \nHaz clic en el siguiente enlace para obtener más información sobre el evento y comprar tus entradas. \nhttps://mezcalfestmty.com/
URL:https://mezcalstore.com.mx/eventos/mezcal-fest-monterrey-2024/
LOCATION:Nave Lewis\, Parque Fundidora\, Monterrey\, Nuevo León\, 64010\, Mexico
ATTACH;FMTTYPE=image/png:https://mezcalstore.com.mx/wp-content/uploads/2024/08/MEZCAL-2024_OFICIAL.png
ORGANIZER;CN="Mezcal Store / Cuadro Coyote":MAILTO:info@mezcalstore.com.mx
END:VEVENT
BEGIN:VEVENT
DTSTART;TZID=America/Monterrey:20240816T203000
DTEND;TZID=America/Monterrey:20240816T223000
DTSTAMP:20260421T072721
CREATED:20240801T172130Z
LAST-MODIFIED:20240801T172918Z
UID:12475-1723840200-1723847400@mezcalstore.com.mx
SUMMARY:Taller de Coctelería con Ciudades Hermanas
DESCRIPTION:¡Explora el fascinante mundo de la coctelería!\nTe invitamos a nuestro Taller de Coctelería\, en colaboración con Ciudades Hermanas\, donde descubrirás los secretos detrás de los cócteles más exquisitos. \nTaller impartido por el bartender Jesús Ballop \nDurante la sesión\, aprenderás a preparar tres exquisitos cócteles con diferentes destilados: \n-Mezcal CHICHINI \n-Ginebra ANTOLOGIN \n-Whisky ORIGEN 35 \nEl evento se llevará a cabo el próximo 16 de agosto a las 8:30 pm en Mezcal Store\, ubicado en Plaza G3\, Av. Revolución 1999-Local 6A\, Buenos Aires\, Monterrey. \nEl costo de la entrada es de $450.00 pesos e incluye\, material y degustación. \n¡No te pierdas esta experiencia única!
URL:https://mezcalstore.com.mx/eventos/taller-de-cocteleria-con-ciudades-hermanas/
LOCATION:Mezcal Store\, Av. Revolución 1999\, Monterrey\, Nuevo León\, 64800\, Mexico
ATTACH;FMTTYPE=image/png:https://mezcalstore.com.mx/wp-content/uploads/2024/08/Taller-de-Cocteleria.png
END:VEVENT
BEGIN:VEVENT
DTSTART;TZID=America/Monterrey:20240706T200000
DTEND;TZID=America/Monterrey:20240707T010000
DTSTAMP:20260421T072721
CREATED:20240509T025334Z
LAST-MODIFIED:20240622T200035Z
UID:12138-1720296000-1720314000@mezcalstore.com.mx
SUMMARY:SESSION SUNSET
DESCRIPTION:¡Prepárate para vivir la fiesta previa al MEZCAL FEST MTY 2024! \nSESSION SUNSET una noche para disfrutar con mucho mezcal\, música \, cerveza y mixología\, una probadita de lo que se viene en octubre 2024 con el MEZCAL FEST MTY 2024. \nDJS SETS A CARGO DE: \n-Pinches chavos\n-Lana del rave\n-Mi Chi Ko \nFecha: Sábado 06 de julio de 2024 \nAcceso: 20:00 horas. \nLugar: Cuadro Coyote\, ubicado en Padre Raymundo Jardón 829\, Barrio Antiguo\, Monterrey\, N.L. \nBoleto de acceso $200.00\nIncluye: Degustación de mezcal \n¡Compra tus boletos ahora! \nCOMPREN SUS BOLETOS EN EL SIGUIENTE LINK: https://sessionsunset.eventbrite.com.mx \n 
URL:https://mezcalstore.com.mx/eventos/session-sunset/
LOCATION:Cuadro Coyote\, 829 Padre Raymundo Jardón Monterrey\, NLE 64000 Mexico\, Monterrey\, Nuevo León\, Mexico
ATTACH;FMTTYPE=image/png:https://mezcalstore.com.mx/wp-content/uploads/2024/05/sessionsunset-cartel-nuevafecha.png
ORGANIZER;CN="Mezcal Store / Cuadro Coyote":MAILTO:info@mezcalstore.com.mx
END:VEVENT
BEGIN:VEVENT
DTSTART;TZID=America/Monterrey:20240531T203000
DTEND;TZID=America/Monterrey:20240531T220000
DTSTAMP:20260421T072721
CREATED:20240516T210444Z
LAST-MODIFIED:20240519T002316Z
UID:12167-1717187400-1717192800@mezcalstore.com.mx
SUMMARY:Charla Mezcalera con Mucho Rico
DESCRIPTION:¡Te invitamos a unirte a nosotros en nuestra próxima charla mezcalera con nuestros amigos de Mucho Rico Mezcal! Sumérgete en el fascinante mundo del mezcal mientras exploramos su rica historia\, desde sus orígenes prehispánicos hasta su posición actual como una bebida emblemática de México. \nDurante este evento\, tendrás la oportunidad de descubrir el proceso de elaboración del mezcal\, desde la selección y cosecha de agave hasta la destilación que da vida a esta deliciosa bebida. \nAdemás\, podrás disfrutar de una degustación guiada de dos exquisitas expresiones de mezcal de Mucho Rico Mezcal\, donde podrás apreciar la complejidad de esta bebida y aprender a distinguir sus matices. \n¡No te pierdas esta oportunidad de sumergirte en el mundo del mezcal y descubrir por qué es mucho más que una simple bebida! \n📆Fecha: 31 de Mayo\n🕜Hora: 8:30 pm\n📍Lugar: Av Revolución\, Plaza G3\, Local 6A.\n💲Costo: $250 \n*RESERVA TU LUGAR* \n 
URL:https://mezcalstore.com.mx/eventos/charla-mezcalera-con-mucho-rico/
LOCATION:Mezcal Store\, Av. Revolución 1999\, Monterrey\, Nuevo León\, 64800\, Mexico
ATTACH;FMTTYPE=image/png:https://mezcalstore.com.mx/wp-content/uploads/2024/05/charla-mucho-rico.png
END:VEVENT
BEGIN:VEVENT
DTSTART;TZID=America/Monterrey:20240515T200000
DTEND;TZID=America/Monterrey:20240515T213000
DTSTAMP:20260421T072721
CREATED:20240503T180923Z
LAST-MODIFIED:20240503T180923Z
UID:12122-1715803200-1715808600@mezcalstore.com.mx
SUMMARY:Presentación - Proyecto LAM
DESCRIPTION:¡Nos emociona presentar uno de los proyectos de sustentabilidad más importantes del país\, de la mano de Real Minero! \nEl Proyecto LAM tiene como objetivo generar conocimiento\, conservación\, manejo y aprovechamiento sustentable de los agaves nativos. Este proyecto nos guiará para cambiar nuestra visión con respecto al consumo de destilados\, ofreciendo información clave a través de la presentación de su segunda edición de “FENOLOGIA DE FLORES”. Esta edición incluye dos ensambles especiales que podremos degustar el próximo 15 de Mayo de 2024. \nLa sesión será impartida por la Dra. Graciela Ángeles Carreño (Mujer Mezcal)\, una experta en el tema. \n¡No te pierdas esta oportunidad única! \nCosto: $500
URL:https://mezcalstore.com.mx/eventos/presentacion-proyecto-lam/
ATTACH;FMTTYPE=image/jpeg:https://mezcalstore.com.mx/wp-content/uploads/2024/05/Imagen-de-WhatsApp-2024-05-02-a-las-11.59.51_c734659a.jpg
END:VEVENT
BEGIN:VEVENT
DTSTART;TZID=America/Monterrey:20240426T203000
DTEND;TZID=America/Monterrey:20240426T223000
DTSTAMP:20260421T072721
CREATED:20240418T172453Z
LAST-MODIFIED:20240509T030225Z
UID:12007-1714163400-1714170600@mezcalstore.com.mx
SUMMARY:Charla\, Degustación y Taller de Coctelería con Mezcal Descartes
DESCRIPTION:Si eres un amante del mezcal y deseas explorar más sobre este destilado\, no te puedes perder la charla que ofrecerá Mezcal Descartes\, una marca de mezcal artesanal que revelará los secretos de esta tradición mexicana. \nEn esta oportunidad única\, conocerás la historia y el proceso de producción de su mezcal\, y tendrás la oportunidad de degustar dos expresiones de destilado de agave. Además\, disfrutarás de un taller de coctelería donde aprenderás a preparar dos cócteles con esta bebida espirituosa. \nEl evento se llevará a cabo el próximo 26 de abril a las 8:30 pm en Mezcal Store\, ubicado en Plaza G3\, Av. Revolución 1999-Local 6A\, Buenos Aires\, Monterrey. \nEl costo de la entrada es de $350.00 pesos e incluye la charla\, material y degustación. No dejes pasar esta oportunidad de disfrutar de una noche divertida y educativa con Mezcal Descartes\, el mezcal que te hace pensar. ¡Te esperamos! \nCata conducida por Andrés Duarte\, fundador de Mezcal Descartes. \nTaller de coctelería dirigido por Beto Martínez\, mixólogo y embajador de la marca Descartes. \n\n\n\n\n\n\n\n\n\n\n\n\n  \n\n\n\n\n\n 
URL:https://mezcalstore.com.mx/eventos/charla-degustacion-y-taller-de-cocteleria-con-mezcal-descartes/
ATTACH;FMTTYPE=image/png:https://mezcalstore.com.mx/wp-content/uploads/2024/04/IMAGEN-PRINCIPAL-EVENTOS-WEB.png
END:VEVENT
BEGIN:VEVENT
DTSTART;TZID=America/Monterrey:20240406T200000
DTEND;TZID=America/Monterrey:20240406T233000
DTSTAMP:20260421T072721
CREATED:20240409T174036Z
LAST-MODIFIED:20240409T174036Z
UID:11944-1712433600-1712446200@mezcalstore.com.mx
SUMMARY:Zunte Night
DESCRIPTION:Si eres un apasionado del mezcal y deseas explorar más sobre este destilado\, no te puedes perder la charla mezcalera que ofrecerá Mayahuel Experience. \nEn esta experiencia única\, podrás degustar tres expresiones excepcionales de destilado de agave: \nZunte Espadín (Oaxaca)\nZunte GOLD EDITION (Ensamble: Tepeztate-Espadín)\nNuku Espadín (Puebla)\nAdemás\, disfrutarás de un maridaje especialmente seleccionado para realzar las notas de cada mezcal. También tendrás la oportunidad de saborear cócteles preparados por un bartender\, experimentando una combinación única de sabores y aromas con la marca Zunte. \nEl evento se llevará a cabo el próximo 06 de abril a las 8:00 pm en Mezcal Store\, ubicado en Plaza G3\, Av. Revolución 1999-Local 6A\, Buenos Aires\, Monterrey. \nEl costo de la entrada es de $350.00 pesos e incluye la charla mezcalera\, la degustación y el maridaje. \nNo dejes pasar la oportunidad de disfrutar de una noche divertida y educativa con Mayahuel Experience. ¡Te esperamos!
URL:https://mezcalstore.com.mx/eventos/zunte-night/
LOCATION:Mezcal Store\, Av. Revolución 1999\, Monterrey\, Nuevo León\, 64800\, Mexico
END:VEVENT
BEGIN:VEVENT
DTSTART;TZID=America/Monterrey:20231111T130000
DTEND;TZID=America/Monterrey:20231112T190000
DTSTAMP:20260421T072721
CREATED:20231005T085503Z
LAST-MODIFIED:20231201T005820Z
UID:8666-1699707600-1699815600@mezcalstore.com.mx
SUMMARY:MEZCAL FEST MTY Edición Invierno
DESCRIPTION:¡Volvemos con una edición más de mezcales y diversión en el MEZCAL FEST MTY Edición Invierno!\nEste evento es una oportunidad para disfrutar de una gran variedad de mezcales en un ambiente festivo\, cómodo y seguro. \n\n\nEn ésta ocasión contaremos con más de 20 casas productoras de mezcal donde podrás degustar mezcales elaborados con diferentes tipos de Maguey\, aprender sobre su proceso de elaboración y descubrir nuevos sabores. Además\, habrá música en vivo\, mixología\, y comida. \nPorque queremos que estén cómodos y nadie se quede fuera\, en ésta ocasión lo haremos durante dos días: \n\nSábado 11 de noviembre de 2023 a partir de las 13:00 horas\nDomingo 12 de noviembre de 2023 a partir de las 12:00 horas\n\n\n\n\nUbicación: Instalaciones de Cuadro Coyote\, Padre Raymundo Jardón 829\, Barrio Antiguo\, Monterrey\, N.L. \n\n\n\nEl MEZCAL FEST MTY Edición Invierno es la ocasión perfecta para reunirte con amigos\, disfrutar de una bebida auténtica y sumergirte en la cultura del mezcal. ¡No te lo puedes perder! Asegúrate de marcar la fecha en tu calendario y prepárate para vivir una experiencia única. \n\n\n\n\n\n\n\n\n\n\n 
URL:https://mezcalstore.com.mx/eventos/mezcal-fest/
LOCATION:Cuadro Coyote\, 829 Padre Raymundo Jardón Monterrey\, NLE 64000 Mexico\, Monterrey\, Nuevo León\, Mexico
ORGANIZER;CN="Mezcal Store / Cuadro Coyote":MAILTO:info@mezcalstore.com.mx
END:VEVENT
END:VCALENDAR